BEGIN:VCALENDAR
VERSION:2.0
PRODID:-//eventon.com NONSGML v1.0//EN
BEGIN:VEVENT
UID:69ecd2ee8d3ac
DTSTAMP:20260425T174254
DTSTART:20230621T150000Z
DTEND:20230621T181500Z
TZID:Asia/Nicosia
LOCATION:2.3 - AIΘΟΥΣΑ 4 (Η/Υ B)\,  ΕΡΓΑΣΤΗΡΙΑ ΚΕΠΑ\,  ΛΕΜΕΣΟΣ Ελπίδος 1\,  Λινόπετρα\,  4102 Λεμεσός. Δείτε την τοποθεσία στο Google Maps.
SUMMARY:Υπολογιστικά Φύλλα MS Excel - Προχωρημένο επίπεδο (AEXLIM19)
DESCRIPTION: Το Advanced Excel είναι ένα ολοκληρωμένο πρόγραμμα\,  διάρκειας 15 ωρών. Κατά τη διάρκεια του προγράμματος αυτού οι συμμετέχοντες θα εμβαθύνουν τις γνώσεις τους στο Excel και θα μάθουν να αξιοποιούν\,  με αποτελεσματικό τρόπο\,  εργαλεία και δυνατότητες νεότερων εκδόσεων του για την εισαγωγή\,  ανάλυση και επεξεργασία δεδομένων. Μετά το πέρας του[..]\nhttps://www.e-gnosis.gov.cy/training/kepa-events/aexlim19/
URL:https://www.e-gnosis.gov.cy/training/kepa-events/aexlim19/
END:VEVENT
END:VCALENDAR