BEGIN:VCALENDAR
VERSION:2.0
PRODID:-//eventon.com NONSGML v1.0//EN
BEGIN:VEVENT
UID:69ece6be9aa37
DTSTAMP:20260425T190726
DTSTART:20230626T130000Z
DTEND:20230626T161500Z
TZID:Asia/Nicosia
LOCATION:1.5 - AIΘΟΥΣΑ Η/Υ\,  ΕΡΓΑΣΤΗΡΙΑ ΚΕΠΑ (ΠΡΩΗΝ ATI)\,  ΛΕΥΚΩΣΙΑ. Κωνσταντίνου Καβάφη 20\,  2121 Αγλαντζιά. Δείτε την τοποθεσία στο Google Maps.
SUMMARY:Ασφάλεια στο Διαδίκτυο (CSNIC18) - ΑΚΥΡΩΘΗΚΕ
DESCRIPTION: Η διαρκής διείσδυση του διαδικτύου στην καθημερινότητα των ανθρώπων\,  μας καθιστά πιο ευάλωτους σε κυβερνο-επιθέσεις (cyber attacks). Αυτό το εισαγωγικό μάθημα διερευνά τις σύγχρονες τάσεις στον τομέα της Κυβερνοασφάλειας (Cybersecurity)\,  τις απειλές που υπάρχουν\,  και πως αυτές μπορούν να επηρεάσουν τη διαδικτυακή μας παρουσία και τα προσωπικά μας δεδομένα. Εξηγείται[..]\nhttps://www.e-gnosis.gov.cy/training/kepa-events/csnic18/
URL:https://www.e-gnosis.gov.cy/training/kepa-events/csnic18/
END:VEVENT
END:VCALENDAR