BEGIN:VCALENDAR
VERSION:2.0
PRODID:-//eventon.com NONSGML v1.0//EN
BEGIN:VEVENT
UID:69eccd5d20a8c
DTSTAMP:20260425T171909
DTSTART:20230620T063000Z
DTEND:20230620T094500Z
TZID:Asia/Nicosia
LOCATION:2.3 - AIΘΟΥΣΑ 4 (Η/Υ B)\,  ΕΡΓΑΣΤΗΡΙΑ ΚΕΠΑ\,  ΛΕΜΕΣΟΣ Ελπίδος 1\,  Λινόπετρα\,  4102 Λεμεσός. Δείτε την τοποθεσία στο Google Maps.
SUMMARY:Επεξεργασία Κειμένου - MS WORD (WOLIM3)
DESCRIPTION: Τo πρόγραμμα\,  διάρκειας 18 ωρών\,  θα βοηθήσει τους συμμετέχοντες στη σωστή και επαγγελματική χρήση της εφαρμογής Microsoft Word για τη δημιουργία και διαχείριση εγγράφων κειμένου. Θα καλύψει\,  μεταξύ άλλων\,  την εισαγωγή και επεξεργασία κειμένου\,  τη μορφοποίηση κειμένου\,  την εισαγωγή αντικειμένων\,  τη συγχώνευση αλληλογραφίας\,  τον έλεγχο κειμένου και την εκτύπωση κειμένου.[..]\nhttps://www.e-gnosis.gov.cy/training/kepa-events/wolim3/
URL:https://www.e-gnosis.gov.cy/training/kepa-events/wolim3/
END:VEVENT
END:VCALENDAR