BEGIN:VCALENDAR
VERSION:2.0
PRODID:-//eventon.com NONSGML v1.0//EN
BEGIN:VEVENT
UID:69e632b977157
DTSTAMP:20260420T170545
DTSTART:20230706T060000Z
DTEND:20230706T091500Z
TZID:Asia/Nicosia
LOCATION:1.1 - AIΘΟΥΣΑ Α\,  ΚΕΝΤΡΙΚΑ ΓΡΑΦΕΙΑ ΚΕΠΑ Λεωφόρος Καλλιπόλεως 77\,  2100 Λευκωσία. Δείτε την τοποθεσία στο Google Maps.
SUMMARY:Βασικές Γνώσεις στη Χρήση Έξυπνου Κινητού (AN55NIC42)
DESCRIPTION: Πρόγραμμα κατάρτισης\,  διάρκειας 30 ωρών\,  που επικεντρώνεται στη χρήση έξυπνων κινητών και tablets που λειτουργούν σε περιβάλλον Android και στην ενημέρωση των συμμετεχόντων και συμμετεχουσών αναφορικά με εξειδικευμένες χρήσιμες εφαρμογές. Σημαντικές Σημειώσεις:1. Οι συμμετέχοντες / συμμετέχουσες στο πρόγραμμα θα πρέπει να είναι άνω των 55 ετών.2. Θα πρέπει να έχουν[..]\nhttps://www.e-gnosis.gov.cy/training/kepa-events/an55nic42/
URL:https://www.e-gnosis.gov.cy/training/kepa-events/an55nic42/
END:VEVENT
END:VCALENDAR