BEGIN:VCALENDAR
VERSION:2.0
PRODID:-//eventon.com NONSGML v1.0//EN
BEGIN:VEVENT
UID:69e73a8f2b4d1
DTSTAMP:20260421T115127
DTSTART:20230627T144500Z
DTEND:20230627T180000Z
TZID:Asia/Nicosia
LOCATION:3.1 - AIΘΟΥΣΑ Η/Υ\,  ΕΡΓΑΣΤΗΡΙΑ ΚΕΠΑ\,  ΛΑΡΝΑΚΑ Λεωφόρος Σπύρου Κυπριανού 100\,  6052 Λάρνακα. Δείτε την τοποθεσία στο Google Maps.
SUMMARY:Μάρκετινγκ στα Μέσα Κοινωνικής Δικτύωσης (SMLCA12)
DESCRIPTION: Τα Μέσα Κοινωνικής Δικτύωσης κατέχουν σημαντικό κομμάτι στον ευρύτερο τομέα του Digital Marketing και απαιτούν ειδικές γνώσεις για το σωστό και αποτελεσματικό χειρισμό τους. Για αυτόν ακριβώς το λόγο\,  τα Social Media αποτελούν ένα πεδίο για εξειδίκευση και συνεχή απόκτηση δεξιοτήτων. Τα Μέσα Κοινωνικής Δικτύωσης έχουν αλλάξει τον τρόπο που[..]\nhttps://www.e-gnosis.gov.cy/training/kepa-events/smlca12/
URL:https://www.e-gnosis.gov.cy/training/kepa-events/smlca12/
END:VEVENT
END:VCALENDAR