BEGIN:VCALENDAR
VERSION:2.0
PRODID:-//eventon.com NONSGML v1.0//EN
BEGIN:VEVENT
UID:69ecd2cc5aaf8
DTSTAMP:20260425T174220
DTSTART:20230711T060000Z
DTEND:20230711T091500Z
TZID:Asia/Nicosia
LOCATION:3.1 - AIΘΟΥΣΑ Η/Υ\,  ΕΡΓΑΣΤΗΡΙΑ ΚΕΠΑ\,  ΛΑΡΝΑΚΑ Λεωφόρος Σπύρου Κυπριανού 100\,  6052 Λάρνακα. Δείτε την τοποθεσία στο Google Maps.
SUMMARY:Υπολογιστικά Φύλλα MS Excel - Προχωρημένο επίπεδο (AEXLCA23)
DESCRIPTION: Το Advanced Excel είναι ένα ολοκληρωμένο πρόγραμμα\,  διάρκειας 15 ωρών. Κατά τη διάρκεια του προγράμματος αυτού οι συμμετέχοντες θα εμβαθύνουν τις γνώσεις τους στο Excel και θα μάθουν να αξιοποιούν\,  με αποτελεσματικό τρόπο\,  εργαλεία και δυνατότητες νεότερων εκδόσεων του για την εισαγωγή\,  ανάλυση και επεξεργασία δεδομένων. Μετά το πέρας του[..]\nhttps://www.e-gnosis.gov.cy/training/kepa-events/aexlca23/
URL:https://www.e-gnosis.gov.cy/training/kepa-events/aexlca23/
END:VEVENT
END:VCALENDAR