BEGIN:VCALENDAR
VERSION:2.0
PRODID:-//eventon.com NONSGML v1.0//EN
BEGIN:VEVENT
UID:69ecce5dee1ef
DTSTAMP:20260425T172325
DTSTART:20230621T150000Z
DTEND:20230621T181500Z
TZID:Asia/Nicosia
LOCATION:1.5 - AIΘΟΥΣΑ Η/Υ\,  ΕΡΓΑΣΤΗΡΙΑ ΚΕΠΑ (ΠΡΩΗΝ ATI)\,  ΛΕΥΚΩΣΙΑ. Κωνσταντίνου Καβάφη 20\,  2121 Αγλαντζιά. Δείτε την τοποθεσία στο Google Maps.
SUMMARY:Υπολογιστικά Φύλλα MS Excel - Προχωρημένο επίπεδο (AEXNIC24)
DESCRIPTION: Το Advanced Excel είναι ένα ολοκληρωμένο πρόγραμμα\,  διάρκειας 15 ωρών. Κατά τη διάρκεια του προγράμματος αυτού οι συμμετέχοντες θα εμβαθύνουν τις γνώσεις τους στο Excel και θα μάθουν να αξιοποιούν\,  με αποτελεσματικό τρόπο\,  εργαλεία και δυνατότητες νεότερων εκδόσεων του για την εισαγωγή\,  ανάλυση και επεξεργασία δεδομένων. Μετά το πέρας του[..]\nhttps://www.e-gnosis.gov.cy/training/kepa-events/aexnic24/
URL:https://www.e-gnosis.gov.cy/training/kepa-events/aexnic24/
END:VEVENT
END:VCALENDAR