BEGIN:VCALENDAR
VERSION:2.0
PRODID:-//eventon.com NONSGML v1.0//EN
BEGIN:VEVENT
UID:69ecf035167c2
DTSTAMP:20260425T194749
DTSTART:20230601T113000Z
DTEND:20230601T144500Z
TZID:Asia/Nicosia
LOCATION:6.1 - Γυμνάσιο Ακακίου Γρηγόρη Αυξεντίου\,  2720 Ακάκι. Δείτε την τοποθεσία στο Google Maps.
SUMMARY:Βασικές γνώσεις Ηλεκτρονικών Υπολογιστών  (WIN55AKA37) - ΑΚΑΚΙ
DESCRIPTION: Πρόγραμμα κατάρτισης\,  διάρκειας 30 ωρών\,  που επικεντρώνεται στη χρήση των ηλεκτρονικών υπολογιστών που λειτουργούν σε περιβάλλον windows\,  με έμφαση στη χρήση του διαδικτύου και των βασικών εφαρμογών του. Σημαντικές Σημειώσεις:1. Οι συμμετέχοντες / συμμετέχουσες στο πρόγραμμα θα πρέπει να είναι άνω των 55 ετών.2. ΔΕΝ επιτρέπεται η παρακολούθηση του ίδιου[..]\nhttps://www.e-gnosis.gov.cy/training/kepa-events/win55aka37/
URL:https://www.e-gnosis.gov.cy/training/kepa-events/win55aka37/
END:VEVENT
END:VCALENDAR