BEGIN:VCALENDAR
VERSION:2.0
PRODID:-//eventon.com NONSGML v1.0//EN
BEGIN:VEVENT
UID:69ecbfa144eb6
DTSTAMP:20260425T162033
DTSTART:20230705T113000Z
DTEND:20230705T144500Z
TZID:Asia/Nicosia
LOCATION:2.2 - AIΘΟΥΣΑ 3 (Η/Υ A)\,  ΕΡΓΑΣΤΗΡΙΑ ΚΕΠΑ\,  ΛΕΜΕΣΟΣ Ελπίδος 1\,  Λινόπετρα\,  4102 Λεμεσός. Δείτε την τοποθεσία στο Google Maps.
SUMMARY:Βασικές Γνώσεις στη Χρήση Έξυπνου Κινητού (AN55LIM43)
DESCRIPTION: Πρόγραμμα κατάρτισης\,  διάρκειας 30 ωρών\,  που επικεντρώνεται στη χρήση έξυπνων κινητών και tablets που λειτουργούν σε περιβάλλον Android και στην ενημέρωση των συμμετεχόντων και συμμετεχουσών αναφορικά με εξειδικευμένες χρήσιμες εφαρμογές. Σημαντικές Σημειώσεις:1. Οι συμμετέχοντες / συμμετέχουσες στο πρόγραμμα θα πρέπει να είναι άνω των 55 ετών.2. Θα πρέπει να έχουν[..]\nhttps://www.e-gnosis.gov.cy/training/kepa-events/an55lim43/
URL:https://www.e-gnosis.gov.cy/training/kepa-events/an55lim43/
END:VEVENT
END:VCALENDAR