BEGIN:VCALENDAR
VERSION:2.0
PRODID:-//eventon.com NONSGML v1.0//EN
BEGIN:VEVENT
UID:69ecc2222ccd5
DTSTAMP:20260425T163114
DTSTART:20230705T070000Z
DTEND:20230705T101500Z
TZID:Asia/Nicosia
LOCATION:2.2 - AIΘΟΥΣΑ 3 (Η/Υ A)\,  ΕΡΓΑΣΤΗΡΙΑ ΚΕΠΑ\,  ΛΕΜΕΣΟΣ Ελπίδος 1\,  Λινόπετρα\,  4102 Λεμεσός. Δείτε την τοποθεσία στο Google Maps.
SUMMARY:Ηλεκτρονική Διακυβέρνηση και Ασφαλείς Ηλεκτρονικές Συναλλαγές  (GOV55LIM22)
DESCRIPTION: Πρόγραμμα κατάρτισης\,  διάρκειας 30 ωρών\,  που επικεντρώνεται στην ενημέρωση των συμμετεχόντων και συμμετεχουσών αναφορικά με τα σημαντικά συστήματα Ηλεκτρονικής Διακυβέρνησης (π.χ. Gov.cy\,  ΓεΣΥ\,  Χορηγίες\,  Επιδόματα\,  Πρόοδος Αιτημάτων\,  Κοινωνικές Ασφαλίσεις\,  Συνταξιοδότηση\,  και Φορολογικά)\,  την Ηλεκτρονική Τραπεζική\,  την ασφαλή διεκπεραίωση Διαδικτυακών Αγορών και Πληρωμή Λογαριασμών. Σημαντικές Σημειώσεις:1. Οι συμμετέχοντες / συμμετέχουσες στο[..]\nhttps://www.e-gnosis.gov.cy/training/kepa-events/gov55lim22/
URL:https://www.e-gnosis.gov.cy/training/kepa-events/gov55lim22/
END:VEVENT
END:VCALENDAR