BEGIN:VCALENDAR
VERSION:2.0
PRODID:-//eventon.com NONSGML v1.0//EN
BEGIN:VEVENT
UID:69ecdeb446dbc
DTSTAMP:20260425T183308
DTSTART:20230614T123000Z
DTEND:20230614T154500Z
TZID:Asia/Nicosia
LOCATION:ΑΙΘΟΥΣΑ ΗΥ 
SUMMARY:Ηλεκτρονική Διακυβέρνηση και Ασφαλείς Ηλεκτρονικές Συναλλαγές  (GOV55VAR24) -  ΑΓΙΑ ΒΑΡΒΑΡΑ
DESCRIPTION: Πρόγραμμα κατάρτισης\,  διάρκειας 30 ωρών\,  που επικεντρώνεται στην ενημέρωση των συμμετεχόντων και συμμετεχουσών αναφορικά με τα σημαντικά συστήματα Ηλεκτρονικής Διακυβέρνησης (π.χ. Gov.cy\,  ΓεΣΥ\,  Χορηγίες\,  Επιδόματα\,  Πρόοδος Αιτημάτων\,  Κοινωνικές Ασφαλίσεις\,  Συνταξιοδότηση\,  και Φορολογικά)\,  την Ηλεκτρονική Τραπεζική\,  την ασφαλή διεκπεραίωση Διαδικτυακών Αγορών και Πληρωμή Λογαριασμών. Σημαντικές Σημειώσεις:1. Οι συμμετέχοντες / συμμετέχουσες στο[..]\nhttps://www.e-gnosis.gov.cy/training/kepa-events/gov55var24/
URL:https://www.e-gnosis.gov.cy/training/kepa-events/gov55var24/
END:VEVENT
END:VCALENDAR