BEGIN:VCALENDAR
VERSION:2.0
PRODID:-//eventon.com NONSGML v1.0//EN
BEGIN:VEVENT
UID:69e77033d7f66
DTSTAMP:20260421T154019
DTSTART:20230926T151500Z
DTEND:20230926T183000Z
TZID:Asia/Nicosia
LOCATION:2.3 - AIΘΟΥΣΑ 4 (Η/Υ B)\,  ΕΡΓΑΣΤΗΡΙΑ ΚΕΠΑ\,  ΛΕΜΕΣΟΣ Ελπίδος 1\,  Λινόπετρα\,  4102 Λεμεσός. Δείτε την τοποθεσία στο Google Maps.
SUMMARY:Ασφάλεια στο Διαδίκτυο (CSLIM21)
DESCRIPTION: Η διαρκής διείσδυση του διαδικτύου στην καθημερινότητα των ανθρώπων\,  μας καθιστά πιο ευάλωτους σε κυβερνο-επιθέσεις (cyber attacks). Αυτό το εισαγωγικό μάθημα διερευνά τις σύγχρονες τάσεις στον τομέα της Κυβερνοασφάλειας (Cybersecurity)\,  τις απειλές που υπάρχουν\,  και πως αυτές μπορούν να επηρεάσουν τη διαδικτυακή μας παρουσία και τα προσωπικά μας δεδομένα. Εξηγείται[..]\nhttps://www.e-gnosis.gov.cy/training/kepa-events/cslim21/
URL:https://www.e-gnosis.gov.cy/training/kepa-events/cslim21/
END:VEVENT
END:VCALENDAR