BEGIN:VCALENDAR
VERSION:2.0
PRODID:-//eventon.com NONSGML v1.0//EN
BEGIN:VEVENT
UID:69e734b623fb2
DTSTAMP:20260421T112630
DTSTART:20230912T120000Z
DTEND:20230912T151500Z
TZID:Asia/Nicosia
LOCATION:4.2 - ΕΜΠΟΡΙΚΟ ΚΑΙ ΒΙΟΜΗΧΑΝΙΚΟ ΕΠΙΜΕΛΗΤΗΡΙΟ ΠΑΦΟΥ Λεωφόρος Αθηνών\,  8100 Πάφος. Δείτε την τοποθεσία στο Google Maps.
SUMMARY:Βασικές Γνώσεις στη Χρήση Έξυπνου Κινητού (AN55PAF47)
DESCRIPTION: Πρόγραμμα κατάρτισης\,  διάρκειας 30 ωρών\,  που επικεντρώνεται στη χρήση έξυπνων κινητών και tablets που λειτουργούν σε περιβάλλον Android και στην ενημέρωση των συμμετεχόντων και συμμετεχουσών αναφορικά με εξειδικευμένες χρήσιμες εφαρμογές. Σημαντικές Σημειώσεις:1. Οι συμμετέχοντες / συμμετέχουσες στο πρόγραμμα θα πρέπει να είναι άνω των 55 ετών.2. Θα πρέπει να έχουν[..]\nhttps://www.e-gnosis.gov.cy/training/kepa-events/an55paf47/
URL:https://www.e-gnosis.gov.cy/training/kepa-events/an55paf47/
END:VEVENT
END:VCALENDAR