BEGIN:VCALENDAR
VERSION:2.0
PRODID:-//eventon.com NONSGML v1.0//EN
BEGIN:VEVENT
UID:69e73a8f22d39
DTSTAMP:20260421T115127
DTSTART:20231019T070000Z
DTEND:20231019T101500Z
TZID:Asia/Nicosia
LOCATION:2.2 - AIΘΟΥΣΑ 3 (Η/Υ A)\,  ΕΡΓΑΣΤΗΡΙΑ ΚΕΠΑ\,  ΛΕΜΕΣΟΣ Ελπίδος 1\,  Λινόπετρα\,  4102 Λεμεσός. Δείτε την τοποθεσία στο Google Maps.
SUMMARY:Εφαρμογές Τεχνητής Νοημοσύνης (AILIM5)
DESCRIPTION: Οι εφαρμογές τεχνητής νοημοσύνης εξυπηρετούν διαφορετικούς σκοπούς για ένα ευρύ φάσμα ενδιαφερομένων. Για παράδειγμα – από μια παγκόσμια επιχείρηση έως έναν απλό χρήστη τηλεφώνου Android\,  κάθε ενδιαφερόμενος σε αυτό το φάσμα έχει διαφορετικό σκοπό για τη χρήση εφαρμογών που βασίζονται σε τεχνητή νοημοσύνη. Στην εποχή της ψηφιακής εποχής\,  οι επιχειρήσεις[..]\nhttps://www.e-gnosis.gov.cy/training/kepa-events/ailim5/
URL:https://www.e-gnosis.gov.cy/training/kepa-events/ailim5/
END:VEVENT
END:VCALENDAR