BEGIN:VCALENDAR
VERSION:2.0
PRODID:-//eventon.com NONSGML v1.0//EN
BEGIN:VEVENT
UID:69e73a8001e71
DTSTAMP:20260421T115112
DTSTART:20231016T120000Z
DTEND:20231016T151500Z
TZID:Asia/Nicosia
LOCATION:2.2 - AIΘΟΥΣΑ 3 (Η/Υ A)\,  ΕΡΓΑΣΤΗΡΙΑ ΚΕΠΑ\,  ΛΕΜΕΣΟΣ Ελπίδος 1\,  Λινόπετρα\,  4102 Λεμεσός. Δείτε την τοποθεσία στο Google Maps.
SUMMARY:Βασικές Γνώσεις στη Χρήση Έξυπνου Κινητού (AN55LIM54)
DESCRIPTION: Πρόγραμμα κατάρτισης\,  διάρκειας 30 ωρών\,  που επικεντρώνεται στη χρήση έξυπνων κινητών και tablets που λειτουργούν σε περιβάλλον Android και στην ενημέρωση των συμμετεχόντων και συμμετεχουσών αναφορικά με εξειδικευμένες χρήσιμες εφαρμογές. Σημαντικές Σημειώσεις:1. Οι συμμετέχοντες / συμμετέχουσες στο πρόγραμμα θα πρέπει να είναι άνω των 55 ετών.2. Θα πρέπει να έχουν[..]\nhttps://www.e-gnosis.gov.cy/training/kepa-events/an55lim54/
URL:https://www.e-gnosis.gov.cy/training/kepa-events/an55lim54/
END:VEVENT
END:VCALENDAR