BEGIN:VCALENDAR
VERSION:2.0
PRODID:-//eventon.com NONSGML v1.0//EN
BEGIN:VEVENT
UID:69e73ac4915cb
DTSTAMP:20260421T115220
DTSTART:20231103T140000Z
DTEND:20231103T181500Z
TZID:Asia/Nicosia
LOCATION:2.3 - AIΘΟΥΣΑ 4 (Η/Υ B)\,  ΕΡΓΑΣΤΗΡΙΑ ΚΕΠΑ\,  ΛΕΜΕΣΟΣ Ελπίδος 1\,  Λινόπετρα\,  4102 Λεμεσός. Δείτε την τοποθεσία στο Google Maps.
SUMMARY:Δωρεάν Εργαστήριο Europass - Οριζόντιες Δεξιότητες «Soft Skills»  (EKEB008) ΑΚΥΡΩΘΗΚΕ
DESCRIPTION: Διάρκεια: 4 ώρες Το Κέντρο Παραγωγικότητας Κύπρου\,  ως το Εθνικό Κέντρο Europass (ΕΚΕ) Κύπρου\,  διοργανώνει δωρεάν εργαστήρια\,  διάρκειας 4 ωρών\,  ανοικτά προς κάθε ενδιαφερόμενο. Τα εργαστήρια θα διεξάγονται σε μόνιμη βάση σε όλες τις πόλεις της Κύπρου. Το μεγαλύτερο μέρος του προγράμματος θα αφορά στην αυτοαξιολόγηση\,  διάγνωση και βελτίωση των[..]\nhttps://www.e-gnosis.gov.cy/training/kepa-events/ekeb008/
URL:https://www.e-gnosis.gov.cy/training/kepa-events/ekeb008/
END:VEVENT
END:VCALENDAR