BEGIN:VCALENDAR
VERSION:2.0
PRODID:-//eventon.com NONSGML v1.0//EN
BEGIN:VEVENT
UID:69ea91e6b379f
DTSTAMP:20260424T004054
DTSTART:20240116T070000Z
DTEND:20240116T101500Z
TZID:Asia/Nicosia
LOCATION:1.3 - AIΘΟΥΣΑ Η/Υ A\,  ΚΕΝΤΡΙΚΑ ΓΡΑΦΕΙΑ ΚΕΠΑ Λεωφόρος Καλλιπόλεως 77\,  2100 Λευκωσία. Δείτε την τοποθεσία στο Google Maps.
SUMMARY:Βασικές γνώσεις Ηλεκτρονικών Υπολογιστών  (WIN55NIC55)
DESCRIPTION: Πρόγραμμα κατάρτισης\,  διάρκειας 30 ωρών\,  που επικεντρώνεται στη χρήση των ηλεκτρονικών υπολογιστών που λειτουργούν σε περιβάλλον windows\,  με έμφαση στη χρήση του διαδικτύου και των βασικών εφαρμογών του. Σημαντικές Σημειώσεις:1. Οι συμμετέχοντες / συμμετέχουσες στο πρόγραμμα θα πρέπει να είναι άνω των 55 ετών.2. ΔΕΝ επιτρέπεται η παρακολούθηση του ίδιου[..]\nhttps://www.e-gnosis.gov.cy/training/kepa-events/win55nic55/
URL:https://www.e-gnosis.gov.cy/training/kepa-events/win55nic55/
END:VEVENT
END:VCALENDAR