BEGIN:VCALENDAR
VERSION:2.0
PRODID:-//eventon.com NONSGML v1.0//EN
BEGIN:VEVENT
UID:69ea92c303928
DTSTAMP:20260424T004435
DTSTART:20240108T143000Z
DTEND:20240108T174500Z
TZID:Asia/Nicosia
LOCATION:1.3 - AIΘΟΥΣΑ Η/Υ A\,  ΚΕΝΤΡΙΚΑ ΓΡΑΦΕΙΑ ΚΕΠΑ Λεωφόρος Καλλιπόλεως 77\,  2100 Λευκωσία. Δείτε την τοποθεσία στο Google Maps.
SUMMARY:Εφαρμογές Γραφείου - Word\,  Excel\,  Powerpoint  (OFF55NIC19)
DESCRIPTION: Πρόγραμμα κατάρτισης\,  διάρκειας 30 ωρών\,  που επικεντρώνεται στην ενημέρωση των συμμετεχόντων και συμμετεχουσών στη χρήση των βασικών Εφαρμογών Γραφείου (Word\,  Excel και PowerPoint) και των πιο σημαντικών Εργαλείων Συνεργασίας (π.χ. Asana\,  Trello\,  Slack\,  Chanty\,  Ζoom και Whereby). Σημαντικές Σημειώσεις:1. Οι συμμετέχοντες / συμμετέχουσες στο πρόγραμμα θα πρέπει να είναι άνω[..]\nhttps://www.e-gnosis.gov.cy/training/kepa-events/off55nic19/
URL:https://www.e-gnosis.gov.cy/training/kepa-events/off55nic19/
END:VEVENT
END:VCALENDAR