BEGIN:VCALENDAR
VERSION:2.0
PRODID:-//eventon.com NONSGML v1.0//EN
BEGIN:VEVENT
UID:69ea91ed0bd82
DTSTAMP:20260424T004101
DTSTART:20240130T131500Z
DTEND:20240130T163000Z
TZID:Asia/Nicosia
LOCATION:1.3 - AIΘΟΥΣΑ Η/Υ A\,  ΚΕΝΤΡΙΚΑ ΓΡΑΦΕΙΑ ΚΕΠΑ Λεωφόρος Καλλιπόλεως 77\,  2100 Λευκωσία. Δείτε την τοποθεσία στο Google Maps.
SUMMARY:Ηλεκτρονική Διακυβέρνηση και Ασφαλείς Ηλεκτρονικές Συναλλαγές  (GOV55NIC41)
DESCRIPTION: Πρόγραμμα κατάρτισης\,  διάρκειας 30 ωρών\,  που επικεντρώνεται στην ενημέρωση των συμμετεχόντων και συμμετεχουσών αναφορικά με τα σημαντικά συστήματα Ηλεκτρονικής Διακυβέρνησης (π.χ. Gov.cy\,  ΓεΣΥ\,  Χορηγίες\,  Επιδόματα\,  Πρόοδος Αιτημάτων\,  Κοινωνικές Ασφαλίσεις\,  Συνταξιοδότηση\,  και Φορολογικά)\,  την Ηλεκτρονική Τραπεζική\,  την ασφαλή διεκπεραίωση Διαδικτυακών Αγορών και Πληρωμή Λογαριασμών. Σημαντικές Σημειώσεις:1. Οι συμμετέχοντες / συμμετέχουσες στο[..]\nhttps://www.e-gnosis.gov.cy/training/kepa-events/gov55nic41/
URL:https://www.e-gnosis.gov.cy/training/kepa-events/gov55nic41/
END:VEVENT
END:VCALENDAR