BEGIN:VCALENDAR
VERSION:2.0
PRODID:-//eventon.com NONSGML v1.0//EN
BEGIN:VEVENT
UID:69ea91ee14db2
DTSTAMP:20260424T004102
DTSTART:20240108T071500Z
DTEND:20240108T103000Z
TZID:Asia/Nicosia
LOCATION:1.7 - AIΘΟΥΣΑ Ε\,  ΚΤΗΡΙΟ Β\,  ΚΕΝΤΡΙΚΑ ΓΡΑΦΕΙΑ ΚΕΠΑ Λεωφόρος Καλλιπόλεως 77\,  2100 Λευκωσία. Δείτε την τοποθεσία στο Google Maps.
SUMMARY:Ψηφιακές Δεξιότητες για καλύτερη Υγεία και Ευεξία (HE55NIC34)
DESCRIPTION: Πρόγραμμα κατάρτισης\,  διάρκειας 30 ωρών\,  που επικεντρώνεται στην ενημέρωση των συμμετεχόντων και συμμετεχουσών αναφορικά με εξειδικευμένες εφαρμογές και αξιόπιστες πηγές πληροφόρησης για θέματα Υγείας και Ευεξίας\,  καθώς και στην εκμάθηση της λειτουργίας και χρήσης της Διαδικτυακής Πύλης του ΓεΣΥ. Σημαντικές Σημειώσεις:1. Οι συμμετέχοντες / συμμετέχουσες στο πρόγραμμα θα πρέπει να[..]\nhttps://www.e-gnosis.gov.cy/training/kepa-events/he55nic34/
URL:https://www.e-gnosis.gov.cy/training/kepa-events/he55nic34/
END:VEVENT
END:VCALENDAR