BEGIN:VCALENDAR
VERSION:2.0
PRODID:-//eventon.com NONSGML v1.0//EN
BEGIN:VEVENT
UID:69ea92c228256
DTSTAMP:20260424T004434
DTSTART:20240115T070000Z
DTEND:20240115T101500Z
TZID:Asia/Nicosia
LOCATION:3.2 - AIΘΟΥΣΑ B\,  ΕΡΓΑΣΤΗΡΙΑ ΚΕΠΑ\,  ΛΑΡΝΑΚΑ Λεωφόρος Σπύρου Κυπριανού 100\,  6052 Λάρνακα. Δείτε την τοποθεσία στο Google Maps.
SUMMARY:Βασικές Γνώσεις στη Χρήση Έξυπνου Κινητού (AN55LCA63)
DESCRIPTION: Πρόγραμμα κατάρτισης\,  διάρκειας 30 ωρών\,  που επικεντρώνεται στη χρήση έξυπνων κινητών και tablets που λειτουργούν σε περιβάλλον Android και στην ενημέρωση των συμμετεχόντων και συμμετεχουσών αναφορικά με εξειδικευμένες χρήσιμες εφαρμογές. Σημαντικές Σημειώσεις:1. Οι συμμετέχοντες / συμμετέχουσες στο πρόγραμμα θα πρέπει να είναι άνω των 55 ετών.2. Θα πρέπει να έχουν[..]\nhttps://www.e-gnosis.gov.cy/training/kepa-events/an55lca63/
URL:https://www.e-gnosis.gov.cy/training/kepa-events/an55lca63/
END:VEVENT
END:VCALENDAR