BEGIN:VCALENDAR
VERSION:2.0
PRODID:-//eventon.com NONSGML v1.0//EN
BEGIN:VEVENT
UID:69eba4761f444
DTSTAMP:20260424T201222
DTSTART:20240223T080000Z
DTEND:20240223T121500Z
TZID:Asia/Nicosia
LOCATION:ΔΙΑΔΙΚΤΥΑΚΑ 
SUMMARY:Εφαρμογές Τεχνητής Νοημοσύνης (AIWEB13)
DESCRIPTION: Οι εφαρμογές τεχνητής νοημοσύνης εξυπηρετούν διαφορετικούς σκοπούς για ένα ευρύ φάσμα ενδιαφερομένων. Για παράδειγμα – από μια παγκόσμια επιχείρηση έως έναν απλό χρήστη τηλεφώνου Android\,  κάθε ενδιαφερόμενος σε αυτό το φάσμα έχει διαφορετικό σκοπό για τη χρήση εφαρμογών που βασίζονται σε τεχνητή νοημοσύνη. Στην εποχή της ψηφιακής εποχής\,  οι επιχειρήσεις[..]\nhttps://www.e-gnosis.gov.cy/training/kepa-events/aiweb13/
URL:https://www.e-gnosis.gov.cy/training/kepa-events/aiweb13/
END:VEVENT
END:VCALENDAR