BEGIN:VCALENDAR
VERSION:2.0
PRODID:-//eventon.com NONSGML v1.0//EN
BEGIN:VEVENT
UID:69e5e47195106
DTSTAMP:20260420T113145
DTSTART:20241104T070000Z
DTEND:20241104T101500Z
TZID:Asia/Nicosia
LOCATION:3.1 - AIΘΟΥΣΑ Η/Υ\,  ΕΡΓΑΣΤΗΡΙΑ ΚΕΠΑ\,  ΛΑΡΝΑΚΑ Λεωφόρος Σπύρου Κυπριανού 100\,  6052 Λάρνακα. Δείτε την τοποθεσία στο Google Maps.
SUMMARY:Εφαρμογές Γραφείου - Word\,  Excel\,  Powerpoint  (OFF55LCA34)
DESCRIPTION: Πρόγραμμα κατάρτισης\,  διάρκειας 30 ωρών\,  που επικεντρώνεται στην ενημέρωση των συμμετεχόντων και συμμετεχουσών στη χρήση των βασικών Εφαρμογών Γραφείου (Word\,  Excel και PowerPoint). Σημαντικές Σημειώσεις:1. Οι συμμετέχοντες / συμμετέχουσες στο πρόγραμμα θα πρέπει να είναι άνω των 55 ετών.2. ΔΕΝ επιτρέπεται η παρακολούθηση του ίδιου προγράμματος από το ίδιο άτομο.\nhttps://www.e-gnosis.gov.cy/training/kepa-events/off55lca34/
URL:https://www.e-gnosis.gov.cy/training/kepa-events/off55lca34/
END:VEVENT
END:VCALENDAR