BEGIN:VCALENDAR
VERSION:2.0
PRODID:-//eventon.com NONSGML v1.0//EN
BEGIN:VEVENT
UID:69e5e46b6c926
DTSTAMP:20260420T113139
DTSTART:20250120T130000Z
DTEND:20250120T161500Z
TZID:Asia/Nicosia
LOCATION:6.15 - Γυμνάσιο Αθηένου Ιμίων 8\,  7600 Αθηένου\,  Λάρνακα\,  Κύπρος. Δείτε την τοποθεσία στο Google Maps.
SUMMARY:Βασικές γνώσεις Ηλεκτρονικών Υπολογιστών - ΑΘΗΕΝΟΥ - (WIN55ATH81)
DESCRIPTION: Πρόγραμμα κατάρτισης\,  διάρκειας 30 ωρών\,  που επικεντρώνεται στη χρήση των ηλεκτρονικών υπολογιστών που λειτουργούν σε περιβάλλον windows\,  με έμφαση στη χρήση του διαδικτύου και των βασικών εφαρμογών του. Σημαντικές Σημειώσεις:1. ΔΕΝ επιτρέπεται η παρακολούθηση του ίδιου προγράμματος από το ίδιο άτομο.\nhttps://www.e-gnosis.gov.cy/training/kepa-events/win55ath81/
URL:https://www.e-gnosis.gov.cy/training/kepa-events/win55ath81/
END:VEVENT
END:VCALENDAR