BEGIN:VCALENDAR
VERSION:2.0
PRODID:-//eventon.com NONSGML v1.0//EN
BEGIN:VEVENT
UID:69e73ab9951e4
DTSTAMP:20260421T115209
DTSTART:20250116T143000Z
DTEND:20250116T174500Z
TZID:Asia/Nicosia
LOCATION:2.2 - AIΘΟΥΣΑ 3 (Η/Υ A)\,  ΕΡΓΑΣΤΗΡΙΑ ΚΕΠΑ\,  ΛΕΜΕΣΟΣ Ελπίδος 1\,  Λινόπετρα\,  4102 Λεμεσός. Δείτε την τοποθεσία στο Google Maps.
SUMMARY:Παρουσιάσεις (Presentations)\,  MS PowerPoint (ICDLPTLIM64)
DESCRIPTION: Το πρόγραμμα παρέχει τις γνώσεις και τις δεξιότητες για:• Κατανόηση διαφορετικών προβολών παρουσίασης• Επεξεργασία και μορφοποίηση κειμένου σε παρουσιάσεις• Επιλογή\,  δημιουργία και μορφοποίηση γραφημάτων• Επεξεργασία εικόνων και σχεδιαζόμενων αντικειμένων• Εφαρμογή κινουμένων σχεδίων και εφέ μετάβασης στις παρουσιάσεις Σημαντικές Σημειώσεις:1. Οι συμμετέχοντες / συμμετέχουσες στο πρόγραμμα\,  μετά την ολοκλήρωσή του\,  θα[..]\nhttps://www.e-gnosis.gov.cy/training/kepa-events/icdlptlim64/
URL:https://www.e-gnosis.gov.cy/training/kepa-events/icdlptlim64/
END:VEVENT
END:VCALENDAR