BEGIN:VCALENDAR
VERSION:2.0
PRODID:-//eventon.com NONSGML v1.0//EN
BEGIN:VEVENT
UID:69e5e4e48445d
DTSTAMP:20260420T113340
DTSTART:20250310T070000Z
DTEND:20250310T101500Z
TZID:Asia/Nicosia
LOCATION:3.1 - AIΘΟΥΣΑ Η/Υ\,  ΕΡΓΑΣΤΗΡΙΑ ΚΕΠΑ\,  ΛΑΡΝΑΚΑ Λεωφόρος Σπύρου Κυπριανού 100\,  6052 Λάρνακα. Δείτε την τοποθεσία στο Google Maps.
SUMMARY:Βασικές γνώσεις Ηλεκτρονικών Υπολογιστών  (WIN55LCA84)
DESCRIPTION: Πρόγραμμα κατάρτισης\,  διάρκειας 30 ωρών\,  που επικεντρώνεται στη χρήση των ηλεκτρονικών υπολογιστών που λειτουργούν σε περιβάλλον windows\,  με έμφαση στη χρήση του διαδικτύου και των βασικών εφαρμογών του. Σημαντικές Σημειώσεις:1. Οι συμμετέχοντες / συμμετέχουσες στο πρόγραμμα θα πρέπει να είναι άνω των 55 ετών.2. ΔΕΝ επιτρέπεται η παρακολούθηση του ίδιου[..]\nhttps://www.e-gnosis.gov.cy/training/kepa-events/win55lca84/
URL:https://www.e-gnosis.gov.cy/training/kepa-events/win55lca84/
END:VEVENT
END:VCALENDAR