BEGIN:VCALENDAR
VERSION:2.0
PRODID:-//eventon.com NONSGML v1.0//EN
BEGIN:VEVENT
UID:69e5e17f2c59b
DTSTAMP:20260420T111911
DTSTART:20250224T080000Z
DTEND:20250224T111500Z
TZID:Asia/Nicosia
LOCATION:4.2 - ΕΜΠΟΡΙΚΟ ΚΑΙ ΒΙΟΜΗΧΑΝΙΚΟ ΕΠΙΜΕΛΗΤΗΡΙΟ ΠΑΦΟΥ Λεωφόρος Αθηνών\,  8100 Πάφος. Δείτε την τοποθεσία στο Google Maps.
SUMMARY:Ηλεκτρονική Διακυβέρνηση και Ασφαλείς Ηλεκτρονικές Συναλλαγές  (GOV55PAF61)
DESCRIPTION: Πρόγραμμα κατάρτισης\,  διάρκειας 30 ωρών\,  που επικεντρώνεται στην ενημέρωση των συμμετεχόντων και συμμετεχουσών αναφορικά με τα σημαντικά συστήματα Ηλεκτρονικής Διακυβέρνησης (π.χ. Gov.cy\,  ΓεΣΥ\,  Χορηγίες\,  Επιδόματα\,  Πρόοδος Αιτημάτων\,  Κοινωνικές Ασφαλίσεις\,  Συνταξιοδότηση\,  και Φορολογικά)\,  την Ηλεκτρονική Τραπεζική\,  την ασφαλή διεκπεραίωση Διαδικτυακών Αγορών και Πληρωμή Λογαριασμών. Σημαντικές Σημειώσεις:1. Οι συμμετέχοντες / συμμετέχουσες στο[..]\nhttps://www.e-gnosis.gov.cy/training/kepa-events/gov55paf61/
URL:https://www.e-gnosis.gov.cy/training/kepa-events/gov55paf61/
END:VEVENT
END:VCALENDAR