BEGIN:VCALENDAR
VERSION:2.0
PRODID:-//eventon.com NONSGML v1.0//EN
BEGIN:VEVENT
UID:69e5e4e47e4d7
DTSTAMP:20260420T113340
DTSTART:20250221T070000Z
DTEND:20250221T101500Z
TZID:Asia/Nicosia
LOCATION:1.1 - AIΘΟΥΣΑ Α\,  ΚΕΝΤΡΙΚΑ ΓΡΑΦΕΙΑ ΚΕΠΑ Λεωφόρος Καλλιπόλεως 77\,  2100 Λευκωσία. Δείτε την τοποθεσία στο Google Maps.
SUMMARY:Βασικές Γνώσεις στη Χρήση Έξυπνου Κινητού - (AN55NIC105)
DESCRIPTION: Πρόγραμμα κατάρτισης\,  διάρκειας 30 ωρών\,  που επικεντρώνεται στη χρήση έξυπνων κινητών και tablets που λειτουργούν σε περιβάλλον Android και στην ενημέρωση των συμμετεχόντων και συμμετεχουσών αναφορικά με εξειδικευμένες χρήσιμες εφαρμογές. Σημαντικές Σημειώσεις:1. Θα πρέπει να έχουν στη διάθεσή τους έξυπνες συσκευές κινητού ή / και tablet.2. ΔΕΝ επιτρέπεται η παρακολούθηση[..]\nhttps://www.e-gnosis.gov.cy/training/kepa-events/an55nic105/
URL:https://www.e-gnosis.gov.cy/training/kepa-events/an55nic105/
END:VEVENT
END:VCALENDAR