BEGIN:VCALENDAR
VERSION:2.0
PRODID:-//eventon.com NONSGML v1.0//EN
BEGIN:VEVENT
UID:69e5e92a2cde2
DTSTAMP:20260420T115154
DTSTART:20250111T080000Z
DTEND:20250111T111500Z
TZID:Asia/Nicosia
LOCATION:6.16 - ΔΗΜΟΤΙΚΟ ΣΧΟΛΕΙΟ ΑΣΙΝΟΥ (ΠΕΡΙΦΕΡΕΙΑΚΟ) Ασίνου 1\,  2777 Νικητάρι\,  Λευκωσία. Δείτε την τοποθεσία στο Google Maps.
SUMMARY:Βασικές Γνώσεις στη Χρήση Έξυπνου Κινητού - ΝΙΚΗΤΑΡΙ - (AN55NIK106)
DESCRIPTION: Πρόγραμμα κατάρτισης\,  διάρκειας 30 ωρών\,  που επικεντρώνεται στη χρήση έξυπνων κινητών και tablets που λειτουργούν σε περιβάλλον Android και στην ενημέρωση των συμμετεχόντων και συμμετεχουσών αναφορικά με εξειδικευμένες χρήσιμες εφαρμογές. Σημαντικές Σημειώσεις:1. Θα πρέπει να έχουν στη διάθεσή τους έξυπνες συσκευές κινητού ή / και tablet.2. ΔΕΝ επιτρέπεται η παρακολούθηση[..]\nhttps://www.e-gnosis.gov.cy/training/kepa-events/an55nik106/
URL:https://www.e-gnosis.gov.cy/training/kepa-events/an55nik106/
END:VEVENT
END:VCALENDAR