BEGIN:VCALENDAR
VERSION:2.0
PRODID:-//eventon.com NONSGML v1.0//EN
BEGIN:VEVENT
UID:69e5e1898177b
DTSTAMP:20260420T111921
DTSTART:20250306T130000Z
DTEND:20250306T161500Z
TZID:Asia/Nicosia
LOCATION:2.3 - AIΘΟΥΣΑ 4 (Η/Υ B)\,  ΕΡΓΑΣΤΗΡΙΑ ΚΕΠΑ\,  ΛΕΜΕΣΟΣ Ελπίδος 1\,  Λινόπετρα\,  4102 Λεμεσός. Δείτε την τοποθεσία στο Google Maps.
SUMMARY:Βασικές Γνώσεις στη Χρήση Έξυπνου Κινητού - (AN55LIM107)
DESCRIPTION: Πρόγραμμα κατάρτισης\,  διάρκειας 30 ωρών\,  που επικεντρώνεται στη χρήση έξυπνων κινητών και tablets που λειτουργούν σε περιβάλλον Android και στην ενημέρωση των συμμετεχόντων και συμμετεχουσών αναφορικά με εξειδικευμένες χρήσιμες εφαρμογές. Σημαντικές Σημειώσεις:1. Θα πρέπει να έχουν στη διάθεσή τους έξυπνες συσκευές κινητού ή / και tablet.2. ΔΕΝ επιτρέπεται η παρακολούθηση[..]\nhttps://www.e-gnosis.gov.cy/training/kepa-events/an55lim107/
URL:https://www.e-gnosis.gov.cy/training/kepa-events/an55lim107/
END:VEVENT
END:VCALENDAR