BEGIN:VCALENDAR
VERSION:2.0
PRODID:-//eventon.com NONSGML v1.0//EN
BEGIN:VEVENT
UID:69e5e46b9514b
DTSTAMP:20260420T113139
DTSTART:20250306T133000Z
DTEND:20250306T170000Z
TZID:Asia/Nicosia
LOCATION:6.18 - Β' Περιφερειακό Γυμνάσιο Λευκωσίας - Μαλούντα Γρηγόρη Αυξεντίου 10\,  Μαλούντα\,  2612 Λευκωσία. Δείτε την τοποθεσία στο Google Maps.
SUMMARY:Βασικές γνώσεις Ηλεκτρονικών Υπολογιστών - ΜΑΛΟΥΝΤΑ - (WIN55MAL88)
DESCRIPTION: Πρόγραμμα κατάρτισης\,  διάρκειας 30 ωρών\,  που επικεντρώνεται στη χρήση των ηλεκτρονικών υπολογιστών που λειτουργούν σε περιβάλλον windows\,  με έμφαση στη χρήση του διαδικτύου και των βασικών εφαρμογών του. Σημαντικές Σημειώσεις:1. ΔΕΝ επιτρέπεται η παρακολούθηση του ίδιου προγράμματος από το ίδιο άτομο.\nhttps://www.e-gnosis.gov.cy/training/kepa-events/win55mal88/
URL:https://www.e-gnosis.gov.cy/training/kepa-events/win55mal88/
END:VEVENT
END:VCALENDAR