BEGIN:VCALENDAR
VERSION:2.0
PRODID:-//eventon.com NONSGML v1.0//EN
BEGIN:VEVENT
UID:69e5e4e4b36db
DTSTAMP:20260420T113340
DTSTART:20250225T150000Z
DTEND:20250225T173000Z
TZID:Asia/Nicosia
LOCATION:6.1 - Γυμνάσιο Ακακίου Γρηγόρη Αυξεντίου\,  2720 Ακάκι. Δείτε την τοποθεσία στο Google Maps.
SUMMARY:Οικονομική Διαχείριση Νοικοκυριού με την Χρήση Νέων Τεχνολογιών - ΑΚΑΚΙ - (FEAKA16)
DESCRIPTION: Πρόγραμμα κατάρτισης\,  διάρκειας 27 ωρών\,  που επικεντρώνεται στη χρήση των νέων τεχνολογιών στην Οικονομική Διαχείριση Νοικοκυριού. Καλύπτονται θέματα όπως ο οικογενειακός προϋπολογισμός\,  το εισόδημα\,  η πρόνοια για την επόμενη μέρα\,  η σύνταξη\,  η αποταμίευση\,  η κατανάλωση\,  η δαπάνη\,  το χρέος\,  η επένδυση\,  η ασφάλιση\,  κ.τ.λ. Σημαντική Σημειώση:1. ΔΕΝ επιτρέπεται η[..]\nhttps://www.e-gnosis.gov.cy/training/kepa-events/feaka16/
URL:https://www.e-gnosis.gov.cy/training/kepa-events/feaka16/
END:VEVENT
END:VCALENDAR