BEGIN:VCALENDAR
VERSION:2.0
PRODID:-//eventon.com NONSGML v1.0//EN
BEGIN:VEVENT
UID:69e5e4e3d49ee
DTSTAMP:20260420T113339
DTSTART:20250319T150000Z
DTEND:20250319T181500Z
TZID:Asia/Nicosia
LOCATION:ΚΕΕΑΕΔ Τρικούπη 131\,  1016 Λευκωσία
SUMMARY:Δωρεάν Εργαστήριο Europass - Οριζόντιες Δεξιότητες «Soft Skills» - Δεξιότητες Επικοινωνίας - ΚΕΕΑΕΔ -  (EKEB146)
DESCRIPTION: Διάρκεια: 3 ώρες Το Κέντρο Παραγωγικότητας Κύπρου\,  ως το Εθνικό Κέντρο Europass (ΕΚΕ) Κύπρου\,  διοργανώνει δωρεάν εργαστήρια\,  διάρκειας 3 ωρών\,  ανοικτά προς κάθε ενδιαφερόμενο. Τα εργαστήρια θα διεξάγονται σε μόνιμη βάση σε όλες τις πόλεις της Κύπρου. Το μεγαλύτερο μέρος του προγράμματος θα αφορά στην αυτοαξιολόγηση\,  διάγνωση και βελτίωση των[..]\nhttps://www.e-gnosis.gov.cy/training/kepa-events/ekeb146/
URL:https://www.e-gnosis.gov.cy/training/kepa-events/ekeb146/
END:VEVENT
END:VCALENDAR