BEGIN:VCALENDAR
VERSION:2.0
PRODID:-//eventon.com NONSGML v1.0//EN
BEGIN:VEVENT
UID:69e5e4e3d536c
DTSTAMP:20260420T113339
DTSTART:20250611T070000Z
DTEND:20250611T101500Z
TZID:Asia/Nicosia
LOCATION:1.2 - AIΘΟΥΣΑ Γ\,  ΚΕΝΤΡΙΚΑ ΓΡΑΦΕΙΑ ΚΕΠΑ Λεωφόρος Καλλιπόλεως 77\,  2100 Λευκωσία. Δείτε την τοποθεσία στο Google Maps.
SUMMARY:Επιχειρώντας Ψηφιακά - ΑΚΥΡΩΘΗΚΕ - (EPINIC1)
DESCRIPTION: Πρόγραμμα κατάρτισης\,  διάρκειας 15 ωρών\,  που απευθύνεται σε στελέχη πολύ μικρών επιχειρήσεων\,  συμπεριλαμβανομένων των αυτοαπασχολούμενων\,  για ψηφιακή αναβάθμιση της επιχείρησής τους και αυτοματοποίηση διάφορων καθημερινών διεργασιών. Παρέχεται επίσης\,  εξατομικευμένη καθοδήγηση/υποστήριξη για την εφαρμογή μέχρι και 2 ψηφιακών εργαλείων\,  σύμφωνα με τις ιδιαίτερες ανάγκες της κάθε επιχείρησης. Σημαντικές Σημειώσεις:1. ΔΕΝ επιτρέπεται[..]\nhttps://www.e-gnosis.gov.cy/training/kepa-events/epinic01/
URL:https://www.e-gnosis.gov.cy/training/kepa-events/epinic01/
END:VEVENT
END:VCALENDAR