BEGIN:VCALENDAR
VERSION:2.0
PRODID:-//eventon.com NONSGML v1.0//EN
BEGIN:VEVENT
UID:69e5e4e3ebc63
DTSTAMP:20260420T113339
DTSTART:20250602T133000Z
DTEND:20250602T164500Z
TZID:Asia/Nicosia
LOCATION:6.18 - Β' Περιφερειακό Γυμνάσιο Λευκωσίας - Μαλούντα Γρηγόρη Αυξεντίου 10\,  Μαλούντα\,  2612 Λευκωσία. Δείτε την τοποθεσία στο Google Maps.
SUMMARY:Οικονομική Διαχείριση Νοικοκυριού με την Χρήση Νέων Τεχνολογιών - ΜΑΛΟΥΝΤΑ (FEMAL19)
DESCRIPTION: Πρόγραμμα κατάρτισης\,  διάρκειας 27 ωρών\,  που επικεντρώνεται στη χρήση των νέων τεχνολογιών στην Οικονομική Διαχείριση Νοικοκυριού. Καλύπτονται θέματα όπως ο οικογενειακός προϋπολογισμός\,  το εισόδημα\,  η πρόνοια για την επόμενη μέρα\,  η σύνταξη\,  η αποταμίευση\,  η κατανάλωση\,  η δαπάνη\,  το χρέος\,  η επένδυση\,  η ασφάλιση\,  κ.τ.λ. Σημαντική Σημειώση:1. ΔΕΝ επιτρέπεται η[..]\nhttps://www.e-gnosis.gov.cy/training/kepa-events/femal19/
URL:https://www.e-gnosis.gov.cy/training/kepa-events/femal19/
END:VEVENT
END:VCALENDAR