BEGIN:VCALENDAR
VERSION:2.0
PRODID:-//eventon.com NONSGML v1.0//EN
BEGIN:VEVENT
UID:69e5e1c7d5fba
DTSTAMP:20260420T112023
DTSTART:20251009T060000Z
DTEND:20251009T091500Z
TZID:Asia/Nicosia
LOCATION:1.3 - AIΘΟΥΣΑ Η/Υ A\,  ΚΕΝΤΡΙΚΑ ΓΡΑΦΕΙΑ ΚΕΠΑ Λεωφόρος Καλλιπόλεως 77\,  2100 Λευκωσία. Δείτε την τοποθεσία στο Google Maps.
SUMMARY:Εφαρμογές Γραφείου - Word\,  Excel\,  Powerpoint  (OFF55NIC42)
DESCRIPTION: Πρόγραμμα κατάρτισης\,  διάρκειας 30 ωρών\,  που επικεντρώνεται στην ενημέρωση των συμμετεχόντων και συμμετεχουσών στη χρήση των βασικών Εφαρμογών Γραφείου (Word\,  Excel και PowerPoint). Σημαντικές Σημειώσεις:1. Οι συμμετέχοντες / συμμετέχουσες στο πρόγραμμα θα πρέπει να είναι άνω των 55 ετών.2. ΔΕΝ επιτρέπεται η παρακολούθηση του ίδιου προγράμματος από το ίδιο άτομο.\nhttps://www.e-gnosis.gov.cy/training/kepa-events/off55nic42/
URL:https://www.e-gnosis.gov.cy/training/kepa-events/off55nic42/
END:VEVENT
END:VCALENDAR