BEGIN:VCALENDAR
VERSION:2.0
PRODID:-//eventon.com NONSGML v1.0//EN
BEGIN:VEVENT
UID:69e5e471b826a
DTSTAMP:20260420T113145
DTSTART:20250916T060000Z
DTEND:20250916T091500Z
TZID:Asia/Nicosia
LOCATION:1.6 - AIΘΟΥΣΑ Δ (Η/Υ)\,  ΚΤΗΡΙΟ Β\,  ΚΕΝΤΡΙΚΑ ΓΡΑΦΕΙΑ ΚΕΠΑ Λεωφόρος Καλλιπόλεως 77\,  2100 Λευκωσία. Δείτε την τοποθεσία στο Google Maps.
SUMMARY:Ηλεκτρονική Διακυβέρνηση και Ασφαλείς Ηλεκτρονικές Συναλλαγές  (GOV55NIC69)
DESCRIPTION: Πρόγραμμα κατάρτισης\,  διάρκειας 30 ωρών\,  που επικεντρώνεται στην ενημέρωση των συμμετεχόντων και συμμετεχουσών αναφορικά με τα σημαντικά συστήματα Ηλεκτρονικής Διακυβέρνησης (π.χ. Gov.cy\,  ΓεΣΥ\,  Χορηγίες\,  Επιδόματα\,  Πρόοδος Αιτημάτων\,  Κοινωνικές Ασφαλίσεις\,  Συνταξιοδότηση\,  και Φορολογικά)\,  την Ηλεκτρονική Τραπεζική\,  την ασφαλή διεκπεραίωση Διαδικτυακών Αγορών και Πληρωμή Λογαριασμών. Σημαντικές Σημειώσεις:1. Οι συμμετέχοντες / συμμετέχουσες στο[..]\nhttps://www.e-gnosis.gov.cy/training/kepa-events/gov55nic69/
URL:https://www.e-gnosis.gov.cy/training/kepa-events/gov55nic69/
END:VEVENT
END:VCALENDAR