BEGIN:VCALENDAR
VERSION:2.0
PRODID:-//eventon.com NONSGML v1.0//EN
BEGIN:VEVENT
UID:69e5e46b4e5f9
DTSTAMP:20260420T113139
DTSTART:20251110T070000Z
DTEND:20251110T101500Z
TZID:Asia/Nicosia
LOCATION:1.6 - AIΘΟΥΣΑ Δ (Η/Υ)\,  ΚΤΗΡΙΟ Β\,  ΚΕΝΤΡΙΚΑ ΓΡΑΦΕΙΑ ΚΕΠΑ Λεωφόρος Καλλιπόλεως 77\,  2100 Λευκωσία. Δείτε την τοποθεσία στο Google Maps.
SUMMARY:Βασικές γνώσεις Ηλεκτρονικών Υπολογιστών  (WIN55NIC95)
DESCRIPTION: Πρόγραμμα κατάρτισης\,  διάρκειας 30 ωρών\,  που επικεντρώνεται στη χρήση των ηλεκτρονικών υπολογιστών που λειτουργούν σε περιβάλλον windows\,  με έμφαση στη χρήση του διαδικτύου και των βασικών εφαρμογών του. Σημαντικές Σημειώσεις:1. Οι συμμετέχοντες / συμμετέχουσες στο πρόγραμμα θα πρέπει να είναι άνω των 55 ετών.2. ΔΕΝ επιτρέπεται η παρακολούθηση του ίδιου[..]\nhttps://www.e-gnosis.gov.cy/training/kepa-events/win55nic95/
URL:https://www.e-gnosis.gov.cy/training/kepa-events/win55nic95/
END:VEVENT
END:VCALENDAR