BEGIN:VCALENDAR
VERSION:2.0
PRODID:-//eventon.com NONSGML v1.0//EN
BEGIN:VEVENT
UID:69e5e4a9eb03a
DTSTAMP:20260420T113241
DTSTART:20251014T070000Z
DTEND:20251014T101500Z
TZID:Asia/Nicosia
LOCATION:4.2 - ΕΜΠΟΡΙΚΟ ΚΑΙ ΒΙΟΜΗΧΑΝΙΚΟ ΕΠΙΜΕΛΗΤΗΡΙΟ ΠΑΦΟΥ Λεωφόρος Αθηνών\,  8100 Πάφος. Δείτε την τοποθεσία στο Google Maps.
SUMMARY:Βασικές Γνώσεις στη Χρήση Έξυπνου Κινητού - (AN55PAF127)
DESCRIPTION: Πρόγραμμα κατάρτισης\,  διάρκειας 30 ωρών\,  που επικεντρώνεται στη χρήση έξυπνων κινητών και tablets που λειτουργούν σε περιβάλλον Android και στην ενημέρωση των συμμετεχόντων και συμμετεχουσών αναφορικά με εξειδικευμένες χρήσιμες εφαρμογές. Σημαντικές Σημειώσεις:1. Θα πρέπει να έχουν στη διάθεσή τους έξυπνες συσκευές κινητού ή / και tablet.2. ΔΕΝ επιτρέπεται η παρακολούθηση[..]\nhttps://www.e-gnosis.gov.cy/training/kepa-events/an55paf127/
URL:https://www.e-gnosis.gov.cy/training/kepa-events/an55paf127/
END:VEVENT
END:VCALENDAR