BEGIN:VCALENDAR
VERSION:2.0
PRODID:-//eventon.com NONSGML v1.0//EN
BEGIN:VEVENT
UID:69e5e4e4182d1
DTSTAMP:20260420T113340
DTSTART:20250903T140000Z
DTEND:20250903T170000Z
TZID:Asia/Nicosia
LOCATION:European Parliament Liaison Office (EPLO) in Cyprus EU House\,  30 Vyronos Avenue\,  1096 Nicosia
SUMMARY:Δωρεάν Εργαστήρι Europass με θέμα: Θέσεις εργασίας στο Ευρωπαϊκό Κοινοβούλιο ειδικά για Κύπριους/ες υπηκόους – Προετοιμασία Εξέτασης από το Εθνικό Κέντρο Europass του Κέντρου Παραγωγικότητας - (EUPARL02)
DESCRIPTION: Το Εργαστήριο αυτό θα πραγματοποιηθεί δια ζώσης. Υπενθύμιση ότι\,  εγγραφή επιτρέπεται μόνο σε ένα απο τα προγραμματισμένα Εργαστήρια. Σημαντική Σημείωση : Συμμετέχοντες οι οποίοι θα παραστούν με Φυσική Παρουσία απαιτείται η επίδειξη Προσωπικής Ταυτότητας Λάβετε υπόψη ότι το παρόν Εργαστήριο δεν διοργανώνεται σε συνεργασία με ή για λογαριασμό του Ευρωπαϊκού[..]\nhttps://www.e-gnosis.gov.cy/training/kepa-events/euparl02/
URL:https://www.e-gnosis.gov.cy/training/kepa-events/euparl02/
END:VEVENT
END:VCALENDAR