BEGIN:VCALENDAR
VERSION:2.0
PRODID:-//eventon.com NONSGML v1.0//EN
BEGIN:VEVENT
UID:69e5e1c7d3f9c
DTSTAMP:20260420T112023
DTSTART:20250903T140000Z
DTEND:20250903T170000Z
TZID:Asia/Nicosia
LOCATION:ΔΙΑΔΙΚΤΥΑΚΑ 
SUMMARY:Δωρεάν Εργαστήρι Europass με θέμα: Θέσεις εργασίας στο Ευρωπαϊκό Κοινοβούλιο ειδικά για Κύπριους/ες υπηκόους – Προετοιμασία Εξέτασης από το Εθνικό Κέντρο Europass του Κέντρου Παραγωγικότητας - (EUPARLW02)
DESCRIPTION: Το Εργαστήριο αυτό θα πραγματοποιηθεί διαδικτυακά. Υπενθύμιση ότι\,  εγγραφή επιτρέπεται μόνο σε ένα απο τα προγραμματισμένα Εργαστήρια. Σημαντική Σημείωση : Ο σύνδεσμος επικοινωνίας θα σταλθεί στο προσωπικό σας ηλεκτρονικό ταχυδρομείο την ημέρα του Εργαστηρίου Λάβετε υπόψη ότι το παρόν Εργαστήριο δεν διοργανώνεται σε συνεργασία με ή για λογαριασμό του Ευρωπαϊκού[..]\nhttps://www.e-gnosis.gov.cy/training/kepa-events/euparlw02/
URL:https://www.e-gnosis.gov.cy/training/kepa-events/euparlw02/
END:VEVENT
END:VCALENDAR