BEGIN:VCALENDAR
VERSION:2.0
PRODID:-//eventon.com NONSGML v1.0//EN
BEGIN:VEVENT
UID:69e5e19459645
DTSTAMP:20260420T111932
DTSTART:20251004T060000Z
DTEND:20251004T101500Z
TZID:Asia/Nicosia
LOCATION:6.12 - Απεήτειο Γυμνάσιο Αγρού Λεωφόρος Κυριάκου Απέητου\,  4860 Αγρός. Δείτε την τοποθεσία στο Google Maps.
SUMMARY:Δημιουργία και Λειτουργία Ιστοσελίδας και Ηλεκτρονικού Καταστήματος με Wordpress και WooCommerce - ΑΓΡΟΣ- (WORDPAGR5)
DESCRIPTION: Πρόγραμμα κατάρτισης\,  διάρκειας 24 ωρών\,  που παρέχει τις δεξιότητες και τις γνώσεις για τη δημιουργία και διαχείριση τόσο μιας ιστοσελίδας όσο και ενός ηλεκτρονικού καταστήματος. Στο πλαίσιο του προγράμματος γίνεται ανάλυση του σχεδιασμού ιστοσελίδας μέσω της πλατφόρμας Wordpress και καλύπτονται θέματα όπως η επιλογή και η διαχείριση του περιεχομένου και[..]\nhttps://www.e-gnosis.gov.cy/training/kepa-events/wordpagr5/
URL:https://www.e-gnosis.gov.cy/training/kepa-events/wordpagr5/
END:VEVENT
END:VCALENDAR