BEGIN:VCALENDAR
VERSION:2.0
PRODID:-//eventon.com NONSGML v1.0//EN
BEGIN:VEVENT
UID:69e61d09a6d89
DTSTAMP:20260420T153313
DTSTART:20250920T060000Z
DTEND:20250920T091500Z
TZID:Asia/Nicosia
LOCATION:6.18 - Β' Περιφερειακό Γυμνάσιο Λευκωσίας - Μαλούντα Γρηγόρη Αυξεντίου 10\,  Μαλούντα\,  2612 Λευκωσία. Δείτε την τοποθεσία στο Google Maps.
SUMMARY:Ηλεκτρονική Διακυβέρνηση και Ασφαλείς Ηλεκτρονικές Συναλλαγές - ΜΑΛΟΥΝΤΑ - (GOV55MAL74)
DESCRIPTION: Πρόγραμμα κατάρτισης\,  διάρκειας 30 ωρών\,  που επικεντρώνεται στην ενημέρωση των συμμετεχόντων και συμμετεχουσών αναφορικά με τα σημαντικά συστήματα Ηλεκτρονικής Διακυβέρνησης (π.χ. Gov.cy\,  ΓεΣΥ\,  Χορηγίες\,  Επιδόματα\,  Πρόοδος Αιτημάτων\,  Κοινωνικές Ασφαλίσεις\,  Συνταξιοδότηση\,  και Φορολογικά)\,  την Ηλεκτρονική Τραπεζική\,  την ασφαλή διεκπεραίωση Διαδικτυακών Αγορών και Πληρωμή Λογαριασμών. Σημαντικές Σημειώσεις:1. ΔΕΝ επιτρέπεται η παρακολούθηση του[..]\nhttps://www.e-gnosis.gov.cy/training/kepa-events/gov55mal74/
URL:https://www.e-gnosis.gov.cy/training/kepa-events/gov55mal74/
END:VEVENT
END:VCALENDAR