BEGIN:VCALENDAR
VERSION:2.0
PRODID:-//eventon.com NONSGML v1.0//EN
BEGIN:VEVENT
UID:69e5e4a9ee52d
DTSTAMP:20260420T113241
DTSTART:20251016T063000Z
DTEND:20251016T094500Z
TZID:Asia/Nicosia
LOCATION:6.26 - Άγιος Θεόδωρος Λάρνακος 25ης Μαρτίου\,  Αγ. Θεόδωρος\,   7730 Λάρνακα. Δείτε την τοποθεσία στο Google Maps.
SUMMARY:Βασικές Γνώσεις στη Χρήση Έξυπνου Κινητού - Άγιος Θεόδωρος Λαρνακας - ΑΚΥΡΩΘΗΚΕ - (AN55AGT131)
DESCRIPTION: Πρόγραμμα κατάρτισης\,  διάρκειας 30 ωρών\,  που επικεντρώνεται στη χρήση έξυπνων κινητών και tablets που λειτουργούν σε περιβάλλον Android και στην ενημέρωση των συμμετεχόντων και συμμετεχουσών αναφορικά με εξειδικευμένες χρήσιμες εφαρμογές. Σημαντικές Σημειώσεις:1. Θα πρέπει να έχουν στη διάθεσή τους έξυπνες συσκευές κινητού ή / και tablet.2. Τo πρόγραμμα εμπίπτει στη[..]\nhttps://www.e-gnosis.gov.cy/training/kepa-events/an55agt131/
URL:https://www.e-gnosis.gov.cy/training/kepa-events/an55agt131/
END:VEVENT
END:VCALENDAR