BEGIN:VCALENDAR
VERSION:2.0
PRODID:-//eventon.com NONSGML v1.0//EN
BEGIN:VEVENT
UID:69e73b1e09a02
DTSTAMP:20260421T115350
DTSTART:20260304T160000Z
DTEND:20260304T190000Z
TZID:Asia/Nicosia
LOCATION:ΔΙΑΔΙΚΤΥΑΚΑ 
SUMMARY:Δωρεάν Διαδικτυακό Εργαστήρι Europass με θέμα: Σταδιοδρομία στα Θεσμικά Όργανα της ΕΕ -  (EPSOA34)
DESCRIPTION: Κατά τη διάρκεια του Εργαστηρίου\,  ειδικός σύμβουλος\,  θα δώσει στους συμμετέχοντες και στις συμμετέχουσες κατευθυντήριες γραμμές για τους διάφορους τρόπους ενημέρωσης για τις ευκαιρίες εργοδότησης στα Θεσμικά Όργανα της ΕΕ\,  τη διαδικασία υποβολής αίτησης και τον κατάλληλο τρόπο προετοιμασίας για τους διαγωνισμούς και τις δοκιμασίες επιλογής. ΔΙΑΔΙΚΤΥΑΚΑ Εισηγητής: Μιχάλης Στυλιανού[..]\nhttps://www.e-gnosis.gov.cy/training/kepa-events/epsoa34/
URL:https://www.e-gnosis.gov.cy/training/kepa-events/epsoa34/
END:VEVENT
END:VCALENDAR