BEGIN:VCALENDAR
VERSION:2.0
PRODID:-//eventon.com NONSGML v1.0//EN
BEGIN:VEVENT
UID:69e5f4899c930
DTSTAMP:20260420T124025
DTSTART:20260313T091500Z
DTEND:20260313T101500Z
TZID:Asia/Nicosia
LOCATION:Λύκειο Μακαρίου Λάρνακας 
SUMMARY:Δωρεάν Εργαστήριο Europass - Εργαλεία Καριέρας - ΛΥΚΕΙΟ ΜΑΚΑΡΙΟΥ ΛΑΡΝΑΚΑΣ - (EKES10)
DESCRIPTION: Διάρκεια: 1 ώρες Κατά τη διάρκεια του Εργαστηρίου\,  σύμβουλοι\,  εξειδικευμένοι σε θέματα Διαχείρισης Ανθρώπινου Δυναμικού\,  θα δώσουν στους συμμετέχοντες και στις συμμετέχουσες κατευθυντήριες γραμμές για τη δημιουργία ενός αξιόλογου Βιογραφικού Σημειώματος\,  στα πρότυπα του Ευρωπαϊκού Βιογραφικού Σημειώματος Europass\,  τη σύνταξη μίας ολοκληρωμένης Συνοδευτικής Επιστολής και την επιτυχή αντιμετώπιση μιας Συνέντευξης[..]\nhttps://www.e-gnosis.gov.cy/training/kepa-events/%ce%b4%cf%89%cf%81%ce%b5%ce%ac%ce%bd-%ce%b5%cf%81%ce%b3%ce%b1%cf%83%cf%84%ce%ae%cf%81%ce%b9%ce%bf-europass-%ce%b5%cf%81%ce%b3%ce%b1%ce%bb%ce%b5%ce%af%ce%b1-%ce%ba%ce%b1%cf%81%ce%b9%ce%ad%cf%81%ce%b1-4/
URL:https://www.e-gnosis.gov.cy/training/kepa-events/%ce%b4%cf%89%cf%81%ce%b5%ce%ac%ce%bd-%ce%b5%cf%81%ce%b3%ce%b1%cf%83%cf%84%ce%ae%cf%81%ce%b9%ce%bf-europass-%ce%b5%cf%81%ce%b3%ce%b1%ce%bb%ce%b5%ce%af%ce%b1-%ce%ba%ce%b1%cf%81%ce%b9%ce%ad%cf%81%ce%b1-4/
END:VEVENT
END:VCALENDAR