BEGIN:VCALENDAR
VERSION:2.0
PRODID:-//eventon.com NONSGML v1.0//EN
BEGIN:VEVENT
UID:69e5e17f3e4ad
DTSTAMP:20260420T111911
DTSTART:20260304T080000Z
DTEND:20260304T110000Z
TZID:Asia/Nicosia
LOCATION:Alexander College 2 Artas Street\,  Aradippou 7102
SUMMARY:Free Europass Workshop - Career Tools -   ALEXANDER COLLEGE LARNACA - (EKE265)
DESCRIPTION: Διάρκεια: 3 ώρες During the Workshop\,  consultants specializing in Human Resources Management will provide participants with guidelines for creating a noteworthy Curriculum Vitae\,  following the Europass European CV standards\,  writing a comprehensive Cover Letter\,  and successfully handling a Job Interview. Important Announcement: This Workshop is exclusively for Alexander College Students.[..]\nhttps://www.e-gnosis.gov.cy/training/kepa-events/eke265/
URL:https://www.e-gnosis.gov.cy/training/kepa-events/eke265/
END:VEVENT
END:VCALENDAR